BEGIN:VCALENDAR
VERSION:2.0
PRODID:icalendar-ruby
CALSCALE:GREGORIAN
METHOD:PUBLISH
BEGIN:VEVENT
DTSTAMP:20260421T015332Z
UID:5-311770@bridgelifecommunitychurch.com
DTSTART:20260426T173000Z
DTEND:20260426T183000Z
CLASS:PUBLIC
CREATED:20260218T182612
DESCRIPTION:Sunday Worship
LAST-MODIFIED:20260218T182612
LOCATION:
SUMMARY:Sunday Worship
URL;VALUE=URI:https://www.bridgelifecommunitychurch.com/events/sunday-worsh
 ip/2026-04-26
END:VEVENT
END:VCALENDAR
