BEGIN:VCALENDAR
VERSION:2.0
PRODID:icalendar-ruby
CALSCALE:GREGORIAN
METHOD:PUBLISH
BEGIN:VEVENT
DTSTAMP:20260422T020948Z
UID:5-311784@bridgelifecommunitychurch.com
DTSTART:20260802T173000Z
DTEND:20260802T183000Z
CLASS:PUBLIC
CREATED:20260218T182612
DESCRIPTION:Sunday Worship
LAST-MODIFIED:20260218T182612
LOCATION:
SUMMARY:Sunday Worship
URL;VALUE=URI:https://www.bridgelifecommunitychurch.com/events/sunday-worsh
 ip/2026-08-02
END:VEVENT
END:VCALENDAR
